BEGIN:VCALENDAR
VERSION:2.0
PRODID:-//Prins Care – Herstel. Ontspan. Versterk. - ECPv6.15.20//NONSGML v1.0//EN
CALSCALE:GREGORIAN
METHOD:PUBLISH
X-ORIGINAL-URL:https://www.prinscare.nl
X-WR-CALDESC:Evenementen voor Prins Care – Herstel. Ontspan. Versterk.
REFRESH-INTERVAL;VALUE=DURATION:PT1H
X-Robots-Tag:noindex
X-PUBLISHED-TTL:PT1H
BEGIN:VTIMEZONE
TZID:Europe/Amsterdam
BEGIN:DAYLIGHT
TZOFFSETFROM:+0100
TZOFFSETTO:+0200
TZNAME:CEST
DTSTART:20200329T010000
END:DAYLIGHT
BEGIN:STANDARD
TZOFFSETFROM:+0200
TZOFFSETTO:+0100
TZNAME:CET
DTSTART:20201025T010000
END:STANDARD
BEGIN:DAYLIGHT
TZOFFSETFROM:+0100
TZOFFSETTO:+0200
TZNAME:CEST
DTSTART:20210328T010000
END:DAYLIGHT
BEGIN:STANDARD
TZOFFSETFROM:+0200
TZOFFSETTO:+0100
TZNAME:CET
DTSTART:20211031T010000
END:STANDARD
BEGIN:DAYLIGHT
TZOFFSETFROM:+0100
TZOFFSETTO:+0200
TZNAME:CEST
DTSTART:20220327T010000
END:DAYLIGHT
BEGIN:STANDARD
TZOFFSETFROM:+0200
TZOFFSETTO:+0100
TZNAME:CET
DTSTART:20221030T010000
END:STANDARD
BEGIN:DAYLIGHT
TZOFFSETFROM:+0100
TZOFFSETTO:+0200
TZNAME:CEST
DTSTART:20230326T010000
END:DAYLIGHT
BEGIN:STANDARD
TZOFFSETFROM:+0200
TZOFFSETTO:+0100
TZNAME:CET
DTSTART:20231029T010000
END:STANDARD
BEGIN:DAYLIGHT
TZOFFSETFROM:+0100
TZOFFSETTO:+0200
TZNAME:CEST
DTSTART:20240331T010000
END:DAYLIGHT
BEGIN:STANDARD
TZOFFSETFROM:+0200
TZOFFSETTO:+0100
TZNAME:CET
DTSTART:20241027T010000
END:STANDARD
END:VTIMEZONE
BEGIN:VEVENT
DTSTART;VALUE=DATE:20231017
DTEND;VALUE=DATE:20231020
DTSTAMP:20260423T185502
CREATED:20230131T092039Z
LAST-MODIFIED:20230131T092615Z
UID:7390-1697500800-1697759999@www.prinscare.nl
SUMMARY:Training: Neural Reset Therapy - Advanced
DESCRIPTION:Met de cursus NRT Advanced leer ik meerdere techniek toe te passen op veel spieren\, littekens\, botvlies en nog veel meer in het lichaam. \nNRT staat voor Neural Reset Therapy. Spieren worden aangestuurd door het centrale zenuwstelsel. Een juiste toepassing van NRT reset het zenuwstelsel en zorgt voor een optimalere tonus in de spierspanning. Met deze release verdwijnen pijnlijke knopen in spieren\, pezen botvlies en littekens op pijnloze en uitzonderlijk snelle wijze. Soms wel binnen 5-30 seconden per spier of soms een groep spieren. Gewrichtsmobiliteit\, kracht en houding worden hierdoor aanzienlijk verbeterd. \nDit delen:\n				Share op Facebook (Opent in een nieuw venster)\n				Facebook\n			\n				Delen op X (Opent in een nieuw venster)\n				X\n			Vind ik leuk:Vind-ik-leuk Aan het laden...
URL:https://www.prinscare.nl/event/cursus-neural-reset-therapy-advanced/
LOCATION:NRT Bussum\, Bussum\, Nederland
CATEGORIES:Deelname Opleiding - Cursus
ATTACH;FMTTYPE=image/png:https://www.prinscare.nl/wp-content/uploads/2022/09/NRT-New.png
END:VEVENT
BEGIN:VEVENT
DTSTART;VALUE=DATE:20221208
DTEND;VALUE=DATE:20221210
DTSTAMP:20260423T185502
CREATED:20220925T141200Z
LAST-MODIFIED:20220925T141212Z
UID:6543-1670457600-1670630399@www.prinscare.nl
SUMMARY:Cursus: Neural Reset Therapy - Lower Body
DESCRIPTION:Met de cursus NRT Lower Body leer ik de techniek toe te passen op veel spieren in het lichaam vanaf het bekken naar beneden. \nNRT staat voor Neural Reset Therapy. Spieren worden aangestuurd door het centrale zenuwstelsel. Een juiste toepassing van NRT reset het zenuwstelsel en zorgt voor een optimalere tonus in de spierspanning. Met deze release verdwijnen pijnlijke knopen in spieren\, pezen botvlies en littekens op pijnloze en uitzonderlijk snelle wijze. Soms wel binnen 5-30 seconden per spier of soms een groep spieren. Gewrichtsmobiliteit\, kracht en houding worden hierdoor aanzienlijk verbeterd. \nDit delen:\n				Share op Facebook (Opent in een nieuw venster)\n				Facebook\n			\n				Delen op X (Opent in een nieuw venster)\n				X\n			Vind ik leuk:Vind-ik-leuk Aan het laden...
URL:https://www.prinscare.nl/event/cursus-neural-reset-therapy-lower-body/
LOCATION:NRT Bussum\, Bussum\, Nederland
CATEGORIES:Deelname Opleiding - Cursus
ATTACH;FMTTYPE=image/png:https://www.prinscare.nl/wp-content/uploads/2022/08/nrt-logo.png
END:VEVENT
BEGIN:VEVENT
DTSTART;VALUE=DATE:20220915
DTEND;VALUE=DATE:20220917
DTSTAMP:20260423T185502
CREATED:20220819T114010Z
LAST-MODIFIED:20220819T114010Z
UID:6483-1663200000-1663372799@www.prinscare.nl
SUMMARY:Cursus: Neural Reset Therapy - Upper Body
DESCRIPTION:Met de cursus NRT UpperBody leer ik de techniek toe te passen op veel spieren in het bovenlichaam. \nNRT staat voor Neural Reset Therapy. Spieren worden aangestuurd door het centrale zenuwstelsel. Een juiste toepassing van NRT reset het zenuwstelsel en zorgt voor een optimalere tonus in de spierspanning. Met deze release verdwijnen pijnlijke knopen in spieren\, pezen botvlies en littekens op pijnloze en uitzonderlijk snelle wijze. Soms wel binnen 5-30 seconden per spier of soms een groep spieren. Gewrichtsmobiliteit\, kracht en houding worden hierdoor aanzienlijk verbeterd. \nDit delen:\n				Share op Facebook (Opent in een nieuw venster)\n				Facebook\n			\n				Delen op X (Opent in een nieuw venster)\n				X\n			Vind ik leuk:Vind-ik-leuk Aan het laden...
URL:https://www.prinscare.nl/event/nrt/
LOCATION:NRT Bussum\, Bussum\, Nederland
CATEGORIES:Deelname Opleiding - Cursus
ATTACH;FMTTYPE=image/png:https://www.prinscare.nl/wp-content/uploads/2022/08/nrt-logo.png
END:VEVENT
BEGIN:VEVENT
DTSTART;VALUE=DATE:20211004
DTEND;VALUE=DATE:20211005
DTSTAMP:20260423T185502
CREATED:20210929T132621Z
LAST-MODIFIED:20210930T111028Z
UID:5883-1633305600-1633391999@www.prinscare.nl
SUMMARY:Cursus: Bekkenklachten masseren
DESCRIPTION:Met de cursus bekkenklachten masseren kan ik gericht iets doen aan al die klachten die spelen of ontstaan in het bekkengebied. \nHet bekkengebied is een bijzonder gebied vol dynamiek. De overgang tussen benen en romp\, de basis van je wervelkolom (je hele zijn) en de diverse organen. Met zoveel ‘spelers’ kunnen er ook diverse klachten ontstaan. \nIn deze cursus schenken we aandacht  aan  aantal belangrijke hoofdrolspelers die we gaan behandelen. \nDit delen:\n				Share op Facebook (Opent in een nieuw venster)\n				Facebook\n			\n				Delen op X (Opent in een nieuw venster)\n				X\n			Vind ik leuk:Vind-ik-leuk Aan het laden...
URL:https://www.prinscare.nl/event/cursus-bekkenklachten-masseren/
LOCATION:Esoterra\, Bilthoven\, Nederland
CATEGORIES:Deelname Opleiding - Cursus
END:VEVENT
END:VCALENDAR