BEGIN:VCALENDAR
VERSION:2.0
PRODID:-//Prins Care – Herstel. Ontspan. Versterk. - ECPv6.15.20//NONSGML v1.0//EN
CALSCALE:GREGORIAN
METHOD:PUBLISH
X-ORIGINAL-URL:https://www.prinscare.nl
X-WR-CALDESC:Evenementen voor Prins Care – Herstel. Ontspan. Versterk.
REFRESH-INTERVAL;VALUE=DURATION:PT1H
X-Robots-Tag:noindex
X-PUBLISHED-TTL:PT1H
BEGIN:VTIMEZONE
TZID:Europe/Amsterdam
BEGIN:DAYLIGHT
TZOFFSETFROM:+0100
TZOFFSETTO:+0200
TZNAME:CEST
DTSTART:20220327T010000
END:DAYLIGHT
BEGIN:STANDARD
TZOFFSETFROM:+0200
TZOFFSETTO:+0100
TZNAME:CET
DTSTART:20221030T010000
END:STANDARD
BEGIN:DAYLIGHT
TZOFFSETFROM:+0100
TZOFFSETTO:+0200
TZNAME:CEST
DTSTART:20230326T010000
END:DAYLIGHT
BEGIN:STANDARD
TZOFFSETFROM:+0200
TZOFFSETTO:+0100
TZNAME:CET
DTSTART:20231029T010000
END:STANDARD
BEGIN:DAYLIGHT
TZOFFSETFROM:+0100
TZOFFSETTO:+0200
TZNAME:CEST
DTSTART:20240331T010000
END:DAYLIGHT
BEGIN:STANDARD
TZOFFSETFROM:+0200
TZOFFSETTO:+0100
TZNAME:CET
DTSTART:20241027T010000
END:STANDARD
END:VTIMEZONE
BEGIN:VEVENT
DTSTART;TZID=Europe/Amsterdam:20230518T090000
DTEND;TZID=Europe/Amsterdam:20230518T170000
DTSTAMP:20260425T001534
CREATED:20220301T104931Z
LAST-MODIFIED:20220301T104931Z
UID:6439-1684400400-1684429200@www.prinscare.nl
SUMMARY:Vaasaqua - Braderie
DESCRIPTION:De Vaasaqua braderie wordt zowel door het publiek als door de deelnemers zeer hoog gewaardeerd. \nHet is dan ook niet voor niets\, dat al heel veel kraamhouders van het eerste uur nog steeds ieder jaar op Hemelvaartsdag in Vaassen staan. \nOok dit jaar op Hemelvaartsdag 21 mei is de variatie weer zeer groot. Er is voor ieder wat wils! Van kleding tot worst\, en van prachtige hobby-artikelen tot sexy ondergoed. \nOp het eerste deel van de Kerkweg\, de Margrietweg\, de Ireneweg en op de grote parkeerplaats tegenover kasteel “de Cannenburgh” vind je ruim 150 kramen en is de Vaasaqua braderie een absolute topper! \nDit delen:\n				Share op Facebook (Opent in een nieuw venster)\n				Facebook\n			\n				Delen op X (Opent in een nieuw venster)\n				X\n			Vind ik leuk:Vind-ik-leuk Aan het laden...
URL:https://www.prinscare.nl/event/vaasaqua-braderie-2/
LOCATION:Dorpcentrum Vaassen\, Vaassen\, Gelderland
CATEGORIES:Buitenevenement,Markt - Braderie
END:VEVENT
BEGIN:VEVENT
DTSTART;TZID=Europe/Amsterdam:20230519T110000
DTEND;TZID=Europe/Amsterdam:20230519T200000
DTSTAMP:20260425T001534
CREATED:20230306T083757Z
LAST-MODIFIED:20230306T083757Z
UID:7765-1684494000-1684526400@www.prinscare.nl
SUMMARY:VoorjaarsMarkt De Eglantier
DESCRIPTION:Dit delen:\n				Share op Facebook (Opent in een nieuw venster)\n				Facebook\n			\n				Delen op X (Opent in een nieuw venster)\n				X\n			Vind ik leuk:Vind-ik-leuk Aan het laden...
URL:https://www.prinscare.nl/event/voorjaarsmarkt-de-eglantier/
LOCATION:Winkelcentrum De Eglantie\, Eglantierlaan\, Apeldoorn\, Nederland
CATEGORIES:Buitenevenement,Markt - Braderie
END:VEVENT
END:VCALENDAR