BEGIN:VCALENDAR
VERSION:2.0
PRODID:-//Prins Care – Herstel. Ontspan. Versterk. - ECPv6.15.20//NONSGML v1.0//EN
CALSCALE:GREGORIAN
METHOD:PUBLISH
X-WR-CALNAME:Prins Care – Herstel. Ontspan. Versterk.
X-ORIGINAL-URL:https://www.prinscare.nl
X-WR-CALDESC:Evenementen voor Prins Care – Herstel. Ontspan. Versterk.
REFRESH-INTERVAL;VALUE=DURATION:PT1H
X-Robots-Tag:noindex
X-PUBLISHED-TTL:PT1H
BEGIN:VTIMEZONE
TZID:Europe/Amsterdam
BEGIN:DAYLIGHT
TZOFFSETFROM:+0100
TZOFFSETTO:+0200
TZNAME:CEST
DTSTART:20200329T010000
END:DAYLIGHT
BEGIN:STANDARD
TZOFFSETFROM:+0200
TZOFFSETTO:+0100
TZNAME:CET
DTSTART:20201025T010000
END:STANDARD
BEGIN:DAYLIGHT
TZOFFSETFROM:+0100
TZOFFSETTO:+0200
TZNAME:CEST
DTSTART:20210328T010000
END:DAYLIGHT
BEGIN:STANDARD
TZOFFSETFROM:+0200
TZOFFSETTO:+0100
TZNAME:CET
DTSTART:20211031T010000
END:STANDARD
BEGIN:DAYLIGHT
TZOFFSETFROM:+0100
TZOFFSETTO:+0200
TZNAME:CEST
DTSTART:20220327T010000
END:DAYLIGHT
BEGIN:STANDARD
TZOFFSETFROM:+0200
TZOFFSETTO:+0100
TZNAME:CET
DTSTART:20221030T010000
END:STANDARD
BEGIN:DAYLIGHT
TZOFFSETFROM:+0100
TZOFFSETTO:+0200
TZNAME:CEST
DTSTART:20230326T010000
END:DAYLIGHT
BEGIN:STANDARD
TZOFFSETFROM:+0200
TZOFFSETTO:+0100
TZNAME:CET
DTSTART:20231029T010000
END:STANDARD
END:VTIMEZONE
BEGIN:VEVENT
DTSTART;TZID=Europe/Amsterdam:20220326T133000
DTEND;TZID=Europe/Amsterdam:20220326T163000
DTSTAMP:20260422T014932
CREATED:20220301T102006Z
LAST-MODIFIED:20220301T102006Z
UID:6432-1648301400-1648312200@www.prinscare.nl
SUMMARY:Product Presentatie Microvezel - BiBBi
DESCRIPTION:Bij BiBBi is het onze missie om jou een uitgeruster en gezonder leven te bezorgen door producten te ontwikkelen die een betere nachtrust en meer ontspanning bevorderen. Heerlijke producten voor in huis met veel comfort en gemak.\nBlader al vast door de brochure om een indruk te krijgen. \nBiBBi Bedding\, Home\, Wellness en Cleaning producten zijn gemaakt van superzachte en duurzame vezels en zijn met veel aandacht en passie ontworpen\, getest en geproduceerd. \n\n\n\n\n\n\nSommige van onze producten zijn zó uniek dat je zelf moet ervaren hoe bijzonder ze zijn. Wij geloven dus in een persoonlijke aanpak in de verkoop van onze producten en daarom zijn onze producten alleen verkrijgbaar via BiBBi adviseurs en onze eigen webshop. \n\n\n\nKom de producten ervaren tijdens deze In Huis Product Presentatie aan de Jan Mulderstraat 2A in Vaassen.\nEr zijn geen (aankoop)verplichtingen\, alleen een gezellige middag of avond met een groep tussen de 5 en 15 personen. \nReserveer hier je plaatsje(s)\n\n\n    \n        \n    \n\n\nDit delen:\n				Share op Facebook (Opent in een nieuw venster)\n				Facebook\n			\n				Delen op X (Opent in een nieuw venster)\n				X\n			Vind ik leuk:Vind-ik-leuk Aan het laden...
URL:https://www.prinscare.nl/event/product-presentatie-microvezel-bibbi-3/
LOCATION:Prins Care in Huis\, Jan Mulderstraat 2A\, Vaassen\, 8171CD\, Nederland
CATEGORIES:Product Presentatie
ORGANIZER;CN="Prins Care":MAILTO:teunie@prinscare.nl
END:VEVENT
BEGIN:VEVENT
DTSTART;TZID=Europe/Amsterdam:20220322T133000
DTEND;TZID=Europe/Amsterdam:20220322T163000
DTSTAMP:20260422T014932
CREATED:20220301T101912Z
LAST-MODIFIED:20220301T101912Z
UID:6429-1647955800-1647966600@www.prinscare.nl
SUMMARY:Product Presentatie Microvezel - BiBBi
DESCRIPTION:Bij BiBBi is het onze missie om jou een uitgeruster en gezonder leven te bezorgen door producten te ontwikkelen die een betere nachtrust en meer ontspanning bevorderen. Heerlijke producten voor in huis met veel comfort en gemak.\nBlader al vast door de brochure om een indruk te krijgen. \nBiBBi Bedding\, Home\, Wellness en Cleaning producten zijn gemaakt van superzachte en duurzame vezels en zijn met veel aandacht en passie ontworpen\, getest en geproduceerd. \n\n\n\n\n\n\nSommige van onze producten zijn zó uniek dat je zelf moet ervaren hoe bijzonder ze zijn. Wij geloven dus in een persoonlijke aanpak in de verkoop van onze producten en daarom zijn onze producten alleen verkrijgbaar via BiBBi adviseurs en onze eigen webshop. \n\n\n\nKom de producten ervaren tijdens deze In Huis Product Presentatie aan de Jan Mulderstraat 2A in Vaassen.\nEr zijn geen (aankoop)verplichtingen\, alleen een gezellige middag of avond met een groep tussen de 5 en 15 personen. \nReserveer hier je plaatsje(s)\n\n\n    \n        \n    \n\n\nDit delen:\n				Share op Facebook (Opent in een nieuw venster)\n				Facebook\n			\n				Delen op X (Opent in een nieuw venster)\n				X\n			Vind ik leuk:Vind-ik-leuk Aan het laden...
URL:https://www.prinscare.nl/event/product-presentatie-microvezel-bibbi-2/
LOCATION:Prins Care in Huis\, Jan Mulderstraat 2A\, Vaassen\, 8171CD\, Nederland
CATEGORIES:Product Presentatie
ORGANIZER;CN="Prins Care":MAILTO:teunie@prinscare.nl
END:VEVENT
BEGIN:VEVENT
DTSTART;TZID=Europe/Amsterdam:20220321T190000
DTEND;TZID=Europe/Amsterdam:20220321T220000
DTSTAMP:20260422T014932
CREATED:20220301T101634Z
LAST-MODIFIED:20220301T101817Z
UID:6418-1647889200-1647900000@www.prinscare.nl
SUMMARY:Product Presentatie Microvezel - BiBBi
DESCRIPTION:Bij BiBBi is het onze missie om jou een uitgeruster en gezonder leven te bezorgen door producten te ontwikkelen die een betere nachtrust en meer ontspanning bevorderen. Heerlijke producten voor in huis met veel comfort en gemak.\nBlader al vast door de brochure om een indruk te krijgen. \nBiBBi Bedding\, Home\, Wellness en Cleaning producten zijn gemaakt van superzachte en duurzame vezels en zijn met veel aandacht en passie ontworpen\, getest en geproduceerd. \n\n\n\n\n\n\nSommige van onze producten zijn zó uniek dat je zelf moet ervaren hoe bijzonder ze zijn. Wij geloven dus in een persoonlijke aanpak in de verkoop van onze producten en daarom zijn onze producten alleen verkrijgbaar via BiBBi adviseurs en onze eigen webshop. \n\n\n\nKom de producten ervaren tijdens deze In Huis Product Presentatie aan de Jan Mulderstraat 2A in Vaassen.\nEr zijn geen (aankoop)verplichtingen\, alleen een gezellige middag of avond met een groep tussen de 5 en 15 personen. \nReserveer hier je plaatsje(s)\n\n\n    \n        \n    \n\n\nDit delen:\n				Share op Facebook (Opent in een nieuw venster)\n				Facebook\n			\n				Delen op X (Opent in een nieuw venster)\n				X\n			Vind ik leuk:Vind-ik-leuk Aan het laden...
URL:https://www.prinscare.nl/event/product-presentatie-microvezel-bibbi/
LOCATION:Prins Care in Huis\, Jan Mulderstraat 2A\, Vaassen\, 8171CD\, Nederland
CATEGORIES:Product Presentatie
ORGANIZER;CN="Prins Care":MAILTO:teunie@prinscare.nl
END:VEVENT
BEGIN:VEVENT
DTSTART;TZID=Europe/Amsterdam:20211211T100000
DTEND;TZID=Europe/Amsterdam:20211211T180000
DTSTAMP:20260422T014932
CREATED:20211027T111906Z
LAST-MODIFIED:20211103T174009Z
UID:6151-1639216800-1639245600@www.prinscare.nl
SUMMARY:KerstEvent - Braderie
DESCRIPTION:Dit delen:\n				Share op Facebook (Opent in een nieuw venster)\n				Facebook\n			\n				Delen op X (Opent in een nieuw venster)\n				X\n			Vind ik leuk:Vind-ik-leuk Aan het laden...
URL:https://www.prinscare.nl/event/kerstevent/
LOCATION:Dorpcentrum Vaassen\, Vaassen\, Gelderland
CATEGORIES:Buitenevenement,Markt - Braderie
END:VEVENT
BEGIN:VEVENT
DTSTART;VALUE=DATE:20211004
DTEND;VALUE=DATE:20211005
DTSTAMP:20260422T014932
CREATED:20210929T132621Z
LAST-MODIFIED:20210930T111028Z
UID:5883-1633305600-1633391999@www.prinscare.nl
SUMMARY:Cursus: Bekkenklachten masseren
DESCRIPTION:Met de cursus bekkenklachten masseren kan ik gericht iets doen aan al die klachten die spelen of ontstaan in het bekkengebied. \nHet bekkengebied is een bijzonder gebied vol dynamiek. De overgang tussen benen en romp\, de basis van je wervelkolom (je hele zijn) en de diverse organen. Met zoveel ‘spelers’ kunnen er ook diverse klachten ontstaan. \nIn deze cursus schenken we aandacht  aan  aantal belangrijke hoofdrolspelers die we gaan behandelen. \nDit delen:\n				Share op Facebook (Opent in een nieuw venster)\n				Facebook\n			\n				Delen op X (Opent in een nieuw venster)\n				X\n			Vind ik leuk:Vind-ik-leuk Aan het laden...
URL:https://www.prinscare.nl/event/cursus-bekkenklachten-masseren/
LOCATION:Esoterra\, Bilthoven\, Nederland
CATEGORIES:Deelname Opleiding - Cursus
END:VEVENT
END:VCALENDAR