BEGIN:VCALENDAR
VERSION:2.0
PRODID:-//Prins Care – Herstel. Ontspan. Versterk. - ECPv6.15.20//NONSGML v1.0//EN
CALSCALE:GREGORIAN
METHOD:PUBLISH
X-ORIGINAL-URL:https://www.prinscare.nl
X-WR-CALDESC:Evenementen voor Prins Care – Herstel. Ontspan. Versterk.
REFRESH-INTERVAL;VALUE=DURATION:PT1H
X-Robots-Tag:noindex
X-PUBLISHED-TTL:PT1H
BEGIN:VTIMEZONE
TZID:Europe/Amsterdam
BEGIN:DAYLIGHT
TZOFFSETFROM:+0100
TZOFFSETTO:+0200
TZNAME:CEST
DTSTART:20250330T010000
END:DAYLIGHT
BEGIN:STANDARD
TZOFFSETFROM:+0200
TZOFFSETTO:+0100
TZNAME:CET
DTSTART:20251026T010000
END:STANDARD
BEGIN:DAYLIGHT
TZOFFSETFROM:+0100
TZOFFSETTO:+0200
TZNAME:CEST
DTSTART:20260329T010000
END:DAYLIGHT
BEGIN:STANDARD
TZOFFSETFROM:+0200
TZOFFSETTO:+0100
TZNAME:CET
DTSTART:20261025T010000
END:STANDARD
BEGIN:DAYLIGHT
TZOFFSETFROM:+0100
TZOFFSETTO:+0200
TZNAME:CEST
DTSTART:20270328T010000
END:DAYLIGHT
BEGIN:STANDARD
TZOFFSETFROM:+0200
TZOFFSETTO:+0100
TZNAME:CET
DTSTART:20271031T010000
END:STANDARD
END:VTIMEZONE
BEGIN:VEVENT
DTSTART;TZID=Europe/Amsterdam:20260421T100000
DTEND;TZID=Europe/Amsterdam:20260421T110000
DTSTAMP:20260420T234412
CREATED:20260415T143016Z
LAST-MODIFIED:20260415T144848Z
UID:9281-1776765600-1776769200@www.prinscare.nl
SUMMARY:Webinar - Basisvoeding en hooikoorts
DESCRIPTION:Orthomoleculair Therapeut en grondlegger van de opleiding Darmexpert\, Annette ter Heijden geeft in een uur tijd heel veel info over voeding\, welzijn en vandaag specifiek over Hooikoorts en wat er aan te doen is. \nJe kunt je via deze link aanmelden.\nGebruik hiervoor de aanmeldcode: 351-940-405 \nBij het aanmeldproces is het fijn voor Annette om te weten wie je bent en dat je je via mij\, Teunie Prins\, aanmeld.\nMochten er na dit webinar nog vragen of onduidelijkheden zijn\, dan kun je je vragen altijd via mij stellen. \n  \nDit delen:\n				Share op Facebook (Opent in een nieuw venster)\n				Facebook\n			\n				Delen op X (Opent in een nieuw venster)\n				X\n			Vind ik leuk:Vind-ik-leuk Aan het laden...
URL:https://www.prinscare.nl/event/hooikoorts-2/
CATEGORIES:Webinar
ATTACH;FMTTYPE=image/jpeg:https://www.prinscare.nl/wp-content/uploads/2026/04/hooikoorts-wat-kan-ik-doen-hatsjoeee-928.jpg
END:VEVENT
BEGIN:VEVENT
DTSTART;TZID=Europe/Amsterdam:20260422T100000
DTEND;TZID=Europe/Amsterdam:20260422T110000
DTSTAMP:20260420T234412
CREATED:20260415T143041Z
LAST-MODIFIED:20260415T144803Z
UID:9284-1776852000-1776855600@www.prinscare.nl
SUMMARY:Webinar - Basisvoeding en hooikoorts
DESCRIPTION:Orthomoleculair Therapeut en grondlegger van de opleiding Darmexpert\, Annette ter Heijden geeft in een uur tijd heel veel info over voeding\, welzijn en vandaag specifiek over Hooikoorts en wat er aan te doen is. \nJe kunt je via deze link aanmelden.\nGebruik hiervoor de aanmeldcode: 351-940-405 \nBij het aanmeldproces is het fijn voor Annette om te weten wie je bent en dat je je via mij\, Teunie Prins\, aanmeld.\nMochten er na dit webinar nog vragen of onduidelijkheden zijn\, dan kun je je vragen altijd via mij stellen. \n  \nDit delen:\n				Share op Facebook (Opent in een nieuw venster)\n				Facebook\n			\n				Delen op X (Opent in een nieuw venster)\n				X\n			Vind ik leuk:Vind-ik-leuk Aan het laden...
URL:https://www.prinscare.nl/event/hooikoorts-3/
CATEGORIES:Webinar
ATTACH;FMTTYPE=image/jpeg:https://www.prinscare.nl/wp-content/uploads/2026/04/hooikoorts-wat-kan-ik-doen-hatsjoeee-928.jpg
END:VEVENT
END:VCALENDAR