BEGIN:VCALENDAR
VERSION:2.0
PRODID:-//Prins Care – Herstel. Ontspan. Versterk. - ECPv6.15.20//NONSGML v1.0//EN
CALSCALE:GREGORIAN
METHOD:PUBLISH
X-WR-CALNAME:Prins Care – Herstel. Ontspan. Versterk.
X-ORIGINAL-URL:https://www.prinscare.nl
X-WR-CALDESC:Evenementen voor Prins Care – Herstel. Ontspan. Versterk.
REFRESH-INTERVAL;VALUE=DURATION:PT1H
X-Robots-Tag:noindex
X-PUBLISHED-TTL:PT1H
BEGIN:VTIMEZONE
TZID:Europe/Amsterdam
BEGIN:DAYLIGHT
TZOFFSETFROM:+0100
TZOFFSETTO:+0200
TZNAME:CEST
DTSTART:20220327T010000
END:DAYLIGHT
BEGIN:STANDARD
TZOFFSETFROM:+0200
TZOFFSETTO:+0100
TZNAME:CET
DTSTART:20221030T010000
END:STANDARD
BEGIN:DAYLIGHT
TZOFFSETFROM:+0100
TZOFFSETTO:+0200
TZNAME:CEST
DTSTART:20230326T010000
END:DAYLIGHT
BEGIN:STANDARD
TZOFFSETFROM:+0200
TZOFFSETTO:+0100
TZNAME:CET
DTSTART:20231029T010000
END:STANDARD
BEGIN:DAYLIGHT
TZOFFSETFROM:+0100
TZOFFSETTO:+0200
TZNAME:CEST
DTSTART:20240331T010000
END:DAYLIGHT
BEGIN:STANDARD
TZOFFSETFROM:+0200
TZOFFSETTO:+0100
TZNAME:CET
DTSTART:20241027T010000
END:STANDARD
BEGIN:DAYLIGHT
TZOFFSETFROM:+0100
TZOFFSETTO:+0200
TZNAME:CEST
DTSTART:20250330T010000
END:DAYLIGHT
BEGIN:STANDARD
TZOFFSETFROM:+0200
TZOFFSETTO:+0100
TZNAME:CET
DTSTART:20251026T010000
END:STANDARD
BEGIN:DAYLIGHT
TZOFFSETFROM:+0100
TZOFFSETTO:+0200
TZNAME:CEST
DTSTART:20260329T010000
END:DAYLIGHT
BEGIN:STANDARD
TZOFFSETFROM:+0200
TZOFFSETTO:+0100
TZNAME:CET
DTSTART:20261025T010000
END:STANDARD
BEGIN:DAYLIGHT
TZOFFSETFROM:+0100
TZOFFSETTO:+0200
TZNAME:CEST
DTSTART:20270328T010000
END:DAYLIGHT
BEGIN:STANDARD
TZOFFSETFROM:+0200
TZOFFSETTO:+0100
TZNAME:CET
DTSTART:20271031T010000
END:STANDARD
END:VTIMEZONE
BEGIN:VEVENT
DTSTART;VALUE=DATE:20231216
DTEND;VALUE=DATE:20231217
DTSTAMP:20260424T161242
CREATED:20230702T120835Z
LAST-MODIFIED:20231201T074113Z
UID:8548-1702684800-1702771199@www.prinscare.nl
SUMMARY:Kerst Event
DESCRIPTION:Programma \n\n\n\n\nVerlies jezelf in een wonderland van activiteiten voor jong en oud. \n\n\n\n\n\nKERSTEVENT-ONTBIJT\n\nWe beginnen met een feestelijk ontbijt in de Wieken. Van 8.30 – 9.30 uur en van 10.00 – 11.00 uur. Er is per sessie ruimte voor 250 gasten. De volledige opbrengst komt ten goede aan restaurant de Molenwiek. Bestel snel je tickets. \n\n\n\n\n\n\n\nSANTA FUN URBAN TRAIL\n\nVanaf 11.00 starten we met een Santarun dwars door Vaassen. De volledige opbrengst komt ten goede aan de Speulbrink. Bestel snel je tickets. \n\n\n\n\n\n\n\nKERSTEVENT-AANBIEDINGEN\n\nTijdens het Kerstevent zijn er mooie aanbiedingen bij de winkeliers in Vaassen. Alle deelnemers van het ontbijt en de Santarun krijgen een aantal vouchers. \n\n\n\n\n\n\n\nMAAR ER IS NOG VEEL MEER TE DOEN…\n\n\n\nDit delen:\n				Share op Facebook (Opent in een nieuw venster)\n				Facebook\n			\n				Delen op X (Opent in een nieuw venster)\n				X\n			Vind ik leuk:Vind-ik-leuk Aan het laden...
URL:https://www.prinscare.nl/event/kerst-event/
LOCATION:Dorpcentrum Vaassen\, Vaassen\, Gelderland
CATEGORIES:Buitenevenement,Markt - Braderie
END:VEVENT
BEGIN:VEVENT
DTSTART;TZID=Europe/Amsterdam:20240128T100000
DTEND;TZID=Europe/Amsterdam:20240128T160000
DTSTAMP:20260424T161242
CREATED:20240123T181621Z
LAST-MODIFIED:20240123T181621Z
UID:8658-1706436000-1706457600@www.prinscare.nl
SUMMARY:Workshop Anatomie
DESCRIPTION:In deze workshop gaan wij op een interactieve\, speelse manier te werk. Geen droge stof maar praktijk gerichte voorbeelden. Voor sommigen is het opfrissen van opgedaan kennis en voor anderen is het een verdieping. In ieder geval gaat Steve in op de wensen van de deelnemers \nDit delen:\n				Share op Facebook (Opent in een nieuw venster)\n				Facebook\n			\n				Delen op X (Opent in een nieuw venster)\n				X\n			Vind ik leuk:Vind-ik-leuk Aan het laden...
URL:https://www.prinscare.nl/event/workshop-anatomie/
LOCATION:NGS Bilthoven
CATEGORIES:Deelname Opleiding - Cursus
END:VEVENT
BEGIN:VEVENT
DTSTART;TZID=Europe/Amsterdam:20240330T120000
DTEND;TZID=Europe/Amsterdam:20240330T150000
DTSTAMP:20260424T161242
CREATED:20240123T182906Z
LAST-MODIFIED:20240123T182959Z
UID:8665-1711800000-1711810800@www.prinscare.nl
SUMMARY:Pasen in Vaassen
DESCRIPTION:  \n \nGezellige activiteiten voor kinderen in de leeftijd 4 t/m 12 jaar (onder begeleiding van een volwassene).\nOok kun je met de paashaas op de foto!! In welke etalage ligt het gouden ei?? \nWil je meedoen aan deze activiteiten haal dan je deelnemerskaart op bij de OVV kraam welke staat bij de kerk in de dorpsstraat. Hier kun je hem ook weer inleveren. \nHebben jullie ook de paasspeurtocht al gelopen? De speurtocht is te downloaden op de site van de ondernemersvereniging Vaassen. \nhttps://www.ondernemersverenigingvaassen.nl/speurtocht/\nOp de foto met de Paashaas\nIn het centrum van Vaassen loopt er op zaterdag 30 maart tussen 12:00 uur en 15:00 uur een Paashaas rond. \nMaak een leuke foto met de Paashaas. Door de foto op de Facebookpagina van Ondernemersvereniging Vaassen te plaatsen\, maak je kans op een leuke prijsjes! \nFoto’s die tot 15:30 uur geplaatst worden tijdens Pasen in Vaassen\, maken kans op een prijs. \nDe winnaars worden ook op Facebook bekend gemaakt. \nDit delen:\n				Share op Facebook (Opent in een nieuw venster)\n				Facebook\n			\n				Delen op X (Opent in een nieuw venster)\n				X\n			Vind ik leuk:Vind-ik-leuk Aan het laden...
URL:https://www.prinscare.nl/event/8665/
LOCATION:Dorpcentrum Vaassen\, Vaassen\, Gelderland
CATEGORIES:Buitenevenement
END:VEVENT
BEGIN:VEVENT
DTSTART;VALUE=DATE:20240407
DTEND;VALUE=DATE:20240408
DTSTAMP:20260424T161242
CREATED:20231201T074914Z
LAST-MODIFIED:20240120T150901Z
UID:8605-1712448000-1712534399@www.prinscare.nl
SUMMARY:Beauty2Buy Voorjaarsbeurs
DESCRIPTION:Save the date voor Beauty Trade Special 2024!  \nHét beauty event van het voorjaar vindt komend jaar plaats op 6\, 7 & 8 april 2024\, zet ‘m vast in je agenda! Ben jij er weer bij? En wie moet dit ook echt niet missen? \n Een combinatie van business\, inspiratie\, beleving en fun! Het is de plek waar je op een ontspannen manier kunt netwerken\, goede zakelijke deals kunt sluiten en je kennis up-to-date houdt\, maar waar je ook plezier kunt hebben met collega’s. \n#beautybeurs #BTS24 #beauty #futureofbeauty #savethedate #jaarbeurs #utrecht \nDit delen:\n				Share op Facebook (Opent in een nieuw venster)\n				Facebook\n			\n				Delen op X (Opent in een nieuw venster)\n				X\n			Vind ik leuk:Vind-ik-leuk Aan het laden...
URL:https://www.prinscare.nl/event/beauty2buy-voorjaarsbeurs/
LOCATION:Jaarbeurs
CATEGORIES:Beursbezoek
END:VEVENT
BEGIN:VEVENT
DTSTART;VALUE=DATE:20240420
DTEND;VALUE=DATE:20240421
DTSTAMP:20260424T161242
CREATED:20240405T122921Z
LAST-MODIFIED:20240405T122921Z
UID:8775-1713571200-1713657599@www.prinscare.nl
SUMMARY:Massage en Complementaire Vakbeurs
DESCRIPTION:12e editie van de Massage en Complementair Vakbeurs! Wil jij je verder verdiepen in natuurlijke gezondheid? Ontdek dan onze beurs op 19 en/of 20 april voor inspiratie\, netwerkkansen\, en verdieping. Het evenement vindt plaats in Evenementenhal Gorinchem. \nDit delen:\n				Share op Facebook (Opent in een nieuw venster)\n				Facebook\n			\n				Delen op X (Opent in een nieuw venster)\n				X\n			Vind ik leuk:Vind-ik-leuk Aan het laden...
URL:https://www.prinscare.nl/event/massage-beurs/
LOCATION:Gorinchem
CATEGORIES:Beursbezoek
END:VEVENT
BEGIN:VEVENT
DTSTART;TZID=Europe/Amsterdam:20240509T090000
DTEND;TZID=Europe/Amsterdam:20240509T170000
DTSTAMP:20260424T161242
CREATED:20240120T152124Z
LAST-MODIFIED:20240120T152124Z
UID:8650-1715245200-1715274000@www.prinscare.nl
SUMMARY:Vaasaqua - Braderie
DESCRIPTION:De Vaasaqua braderie wordt zowel door het publiek als door de deelnemers zeer hoog gewaardeerd. \nHet is dan ook niet voor niets\, dat al heel veel kraamhouders van het eerste uur nog steeds ieder jaar op Hemelvaartsdag in Vaassen staan. \n \nOok dit jaar op Hemelvaartsdag 9 mei is de variatie weer zeer groot. Er is voor ieder wat wils! Van kleding tot worst\, en van prachtige hobby-artikelen tot sexy ondergoed. En natuurlijk Prins Care met massage en NRT- demo’s. Voor het eerst dit jaar zal ook Chantal’s NailArt bij mij in de kraam aanwezig zijn. \nOp het eerste deel van de Kerkweg\, de Margrietweg\, de Ireneweg en op de grote parkeerplaats tegenover kasteel “de Cannenburgh” vind je ruim 150 kramen en is de Vaasaqua braderie een absolute topper! \nDit delen:\n				Share op Facebook (Opent in een nieuw venster)\n				Facebook\n			\n				Delen op X (Opent in een nieuw venster)\n				X\n			Vind ik leuk:Vind-ik-leuk Aan het laden...
URL:https://www.prinscare.nl/event/vaasaqua-braderie-3/
LOCATION:Dorpcentrum Vaassen\, Vaassen\, Gelderland
CATEGORIES:Buitenevenement,Markt - Braderie
END:VEVENT
BEGIN:VEVENT
DTSTART;VALUE=DATE:20240525
DTEND;VALUE=DATE:20240526
DTSTAMP:20260424T161242
CREATED:20240123T183317Z
LAST-MODIFIED:20240123T183328Z
UID:8670-1716595200-1716681599@www.prinscare.nl
SUMMARY:Vier het Voorjaar
DESCRIPTION:onder \nDit delen:\n				Share op Facebook (Opent in een nieuw venster)\n				Facebook\n			\n				Delen op X (Opent in een nieuw venster)\n				X\n			Vind ik leuk:Vind-ik-leuk Aan het laden...
URL:https://www.prinscare.nl/event/vier-het-voorjaar/
LOCATION:Dorpcentrum Vaassen\, Vaassen\, Gelderland
CATEGORIES:Buitenevenement
END:VEVENT
BEGIN:VEVENT
DTSTART;VALUE=DATE:20240528
DTEND;VALUE=DATE:20240623
DTSTAMP:20260424T161242
CREATED:20240123T183729Z
LAST-MODIFIED:20240123T185301Z
UID:8673-1716854400-1719100799@www.prinscare.nl
SUMMARY:Vakantie
DESCRIPTION:Dit delen:\n				Share op Facebook (Opent in een nieuw venster)\n				Facebook\n			\n				Delen op X (Opent in een nieuw venster)\n				X\n			Vind ik leuk:Vind-ik-leuk Aan het laden...
URL:https://www.prinscare.nl/event/vakantie/
CATEGORIES:Bijzonderheden
ATTACH;FMTTYPE=image/jpeg:https://www.prinscare.nl/wp-content/uploads/2024/01/vakantiesluiting-e1706035873787.jpg
ORGANIZER;CN="Prins Care":MAILTO:teunie@prinscare.nl
END:VEVENT
BEGIN:VEVENT
DTSTART;VALUE=DATE:20240629
DTEND;VALUE=DATE:20240701
DTSTAMP:20260424T161242
CREATED:20240123T180912Z
LAST-MODIFIED:20240123T183133Z
UID:8654-1719619200-1719791999@www.prinscare.nl
SUMMARY:Cursus - Spiertesten (kinesiologie)
DESCRIPTION:Kinesiologie betekent de ‘leer van de beweging’. Het werd in de jaren ’60 ontwikkeld door de chiropractor George Goodheart en heeft zich door de tijd heen verder ontwikkeld. De sleutelwoorden van de cursus spiertesten zijn: waarnemen\, weten en ervaren. Het ‘weten’ dat je in een bepaalde toestand verkeert\, zegt alles over je waarneming. Ons lichaam ‘weet’ meer dan wij denken over wat erin ons lichaam en onze geest aan de hand is. Spieren reageren op stress. Ook als dit niet direct duidelijk is. Spieren\, die aangestuurd worden door prikkels via de zenuwen vanuit onze hersens\, zitten overal in ons lichaam en kunnen informatie geven over de ‘zijnstoestand’ van het lichaam. Daarom zijn ze een geschikte tool om te testen waar energieblokkades zitten. Van daaruit kun je op reis in jezelf voor het oplossen van de klacht. \nDit delen:\n				Share op Facebook (Opent in een nieuw venster)\n				Facebook\n			\n				Delen op X (Opent in een nieuw venster)\n				X\n			Vind ik leuk:Vind-ik-leuk Aan het laden...
URL:https://www.prinscare.nl/event/cursus-spiertesten-kinesiologie/
LOCATION:Wellness Academie\, Apeldoorn
CATEGORIES:Deelname Opleiding - Cursus
END:VEVENT
BEGIN:VEVENT
DTSTART;VALUE=DATE:20240816
DTEND;VALUE=DATE:20240826
DTSTAMP:20260424T161242
CREATED:20240123T185408Z
LAST-MODIFIED:20240123T185408Z
UID:8679-1723766400-1724630399@www.prinscare.nl
SUMMARY:Vakantie
DESCRIPTION:Dit delen:\n				Share op Facebook (Opent in een nieuw venster)\n				Facebook\n			\n				Delen op X (Opent in een nieuw venster)\n				X\n			Vind ik leuk:Vind-ik-leuk Aan het laden...
URL:https://www.prinscare.nl/event/vakantie-2/
CATEGORIES:Bijzonderheden
ATTACH;FMTTYPE=image/jpeg:https://www.prinscare.nl/wp-content/uploads/2024/01/vakantiesluiting-e1706035873787.jpg
ORGANIZER;CN="Prins Care":MAILTO:teunie@prinscare.nl
END:VEVENT
BEGIN:VEVENT
DTSTART;VALUE=DATE:20240914
DTEND;VALUE=DATE:20240916
DTSTAMP:20260424T161242
CREATED:20240405T121916Z
LAST-MODIFIED:20240405T130045Z
UID:8771-1726272000-1726444799@www.prinscare.nl
SUMMARY:Cursus - Orthomanipulatie therapie (Dorn)
DESCRIPTION:Rug-\, schouder- en nekklachten; het is aan de orde van de dag! Hoeveel mensen lopen niet met deze klachten rond? In deze cursus orthomanipulatie therapie leer je hoe je verlichting kunt bieden. De methode is gericht op het opheffen van scheefstand en blokkades in gewrichten via zachte manipulaties. Het wordt door velen beschouwd als de onderbouwde vorm van de Dorn therapie en Breuss massage. Deze heilzame behandelwijze is een ideale verrijking voor elke massagetherapeut! \nDit delen:\n				Share op Facebook (Opent in een nieuw venster)\n				Facebook\n			\n				Delen op X (Opent in een nieuw venster)\n				X\n			Vind ik leuk:Vind-ik-leuk Aan het laden...
URL:https://www.prinscare.nl/event/cursus-dorn/
LOCATION:Wellness Academie\, Apeldoorn
CATEGORIES:Deelname Opleiding - Cursus
END:VEVENT
BEGIN:VEVENT
DTSTART;VALUE=DATE:20240920
DTEND;VALUE=DATE:20240930
DTSTAMP:20260424T161242
CREATED:20240801T162612Z
LAST-MODIFIED:20240801T162612Z
UID:8819-1726790400-1727654399@www.prinscare.nl
SUMMARY:Vakantie
DESCRIPTION:Dit delen:\n				Share op Facebook (Opent in een nieuw venster)\n				Facebook\n			\n				Delen op X (Opent in een nieuw venster)\n				X\n			Vind ik leuk:Vind-ik-leuk Aan het laden...
URL:https://www.prinscare.nl/event/vakantie-3/
CATEGORIES:Bijzonderheden
ATTACH;FMTTYPE=image/jpeg:https://www.prinscare.nl/wp-content/uploads/2024/01/vakantiesluiting-e1706035873787.jpg
ORGANIZER;CN="Prins Care":MAILTO:teunie@prinscare.nl
END:VEVENT
BEGIN:VEVENT
DTSTART;VALUE=DATE:20241001
DTEND;VALUE=DATE:20250219
DTSTAMP:20260424T161242
CREATED:20231201T080355Z
LAST-MODIFIED:20231201T081131Z
UID:8609-1727740800-1739923199@www.prinscare.nl
SUMMARY:Vakopleiding - Schoonheidsspecialiste
DESCRIPTION:Onze opleiding schoonheidsspecialiste is een complete vakopleiding\, die je opleidt tot een duizendpoot in cosmetische en ontspannende behandelingen. Je doel als schoonheidsspecialiste is tweeledig; je helpt mensen om hun natuurlijke schoonheid te bevorderen en je biedt tegelijkertijd een moment van ontspanning. Het geeft veel voldoening om te zien hoe je klanten na afloop als herboren je salon verlaten. Een mooie missie! \nOnze opleiding schoonheidsspecialiste is een uitgebreide opleiding. Gelaatsverzorging\, lichaamsbehandelingen\, make-up\, pedicure\, manicure\, ontharingstechnieken\, massage; het komt allemaal aan bod. Je gaat meteen veel zelf aan de slag met al deze behandelingen; uiteraard onder de begeleiding van een topdocent. Hoewel de praktijklessen de boventoon voeren\, mag theoretische kennis niet ontbreken. Je werkt immers direct met mensen. Dat moet natuurlijk wel veilig\, verantwoord en hygienisch gebeuren. Daarom leer je ook alles over anatomie\, pathologie en fysiologie\, veilig en hygiënisch werken\, materialen- en productenleer\, salonbeheer en klantvriendelijk werken. \nDeze opleiding schoonheidsspecialiste is op diverse punten uniek. Zo worden de lessen gegeven door zeer ervaren vakdocenten. Ze staan steeds voor je klaar met praktische tips en adviezen om jouw carrière als beauty professional in de lift te helpen. Daarnaast zijn ook de beperkte lesgroepen een voordeel. Persoonlijke aandacht is daardoor een vanzelfsprekendheid. Je hebt voor de lessen geen model nodig\, maar je oefent op elkaar. Zo weet je ook meteen hoe de behandelingen aanvoelen en kun je je klanten nog beter van dienst zijn. \n  \n\nHet leerdoel van deze opleiding is onderstaand leerprogramma te kennen en kunnen na afloop: \n\nAnatomie\, pathologie & fysiologie\nGelaatsverzorging\nLichaamsbehandelingen\nManicure\nPedicure\nMake-up\nOntharingstechnieken\nMassage\nProductleer\nHet salon\nVeiligheid & hygiëne\nPlastische chirurgie (introductie)\n\n\nDit delen:\n				Share op Facebook (Opent in een nieuw venster)\n				Facebook\n			\n				Delen op X (Opent in een nieuw venster)\n				X\n			Vind ik leuk:Vind-ik-leuk Aan het laden...
URL:https://www.prinscare.nl/event/schoonheidsspecialiste/
LOCATION:Wellness Academie\, Apeldoorn
CATEGORIES:Deelname Opleiding - Cursus
END:VEVENT
BEGIN:VEVENT
DTSTART;VALUE=DATE:20250422
DTEND;VALUE=DATE:20250423
DTSTAMP:20260424T161242
CREATED:20250304T104525Z
LAST-MODIFIED:20250319T111502Z
UID:8975-1745280000-1745366399@www.prinscare.nl
SUMMARY:Chi Essential Cosmetics - Praktijkdag Partners
DESCRIPTION:Als trotse partner van Chi Essential Cosmetics krijg ik de kans om deel te nemen aan een exclusieve praktijkdag\, speciaal georganiseerd voor de partners van dit geweldige merk. Tijdens deze dag ga ik hands-on ervaring opdoen met de producten van Chi Essential Cosmetics en mijn kennis over hun toepassingen en voordelen verder uitbreiden. \nWat ik kan verwachten: \n\nPraktijkervaring: Ik zal onder begeleiding van experts leren hoe ik de producten optimaal kan inzetten voor huid- en haarverzorging\, met focus op de meest effectieve behandelingen.\nDiepgaande productkennis: Ik krijg de kans om meer te leren over de unieke formules en de wetenschappelijke achtergronden van de producten\, zodat ik deze beter kan toepassen en adviseren.\nNetwerken: Het is een mooie gelegenheid om andere partners van Chi Essential Cosmetics te ontmoeten\, kennis uit te wisselen en ervaringen te delen.\nExclusieve inzichten: Ik zal ook meer te weten komen over de nieuwste ontwikkelingen binnen het merk en handige tips en tricks ontvangen om mijn werk nog succesvoller te maken.\n\nIk kijk er enorm naar uit om deze dag te ervaren\, mijn kennis verder te verdiepen en nieuwe inzichten op te doen die ik direct kan toepassen in mijn werk met Chi Essential Cosmetics! \nDit delen:\n				Share op Facebook (Opent in een nieuw venster)\n				Facebook\n			\n				Delen op X (Opent in een nieuw venster)\n				X\n			Vind ik leuk:Vind-ik-leuk Aan het laden...
URL:https://www.prinscare.nl/event/cec-praktijkdag-partners/
LOCATION:Chi Natural Life – Breda\, Breda
CATEGORIES:Deelname Opleiding - Cursus
ATTACH;FMTTYPE=image/jpeg:https://www.prinscare.nl/wp-content/uploads/2025/03/CEC.jpg
END:VEVENT
BEGIN:VEVENT
DTSTART;TZID=Europe/Amsterdam:20250529T090000
DTEND;TZID=Europe/Amsterdam:20250529T170000
DTSTAMP:20260424T161242
CREATED:20241208T130218Z
LAST-MODIFIED:20241208T130218Z
UID:8913-1748509200-1748538000@www.prinscare.nl
SUMMARY:Vaasaqua - Braderie
DESCRIPTION:De Vaasaqua braderie wordt zowel door het publiek als door de deelnemers zeer hoog gewaardeerd. \nHet is dan ook niet voor niets\, dat al heel veel kraamhouders van het eerste uur nog steeds ieder jaar op Hemelvaartsdag in Vaassen staan. \n \nOok dit jaar op Hemelvaartsdag 29 mei is de variatie weer zeer groot. Er is voor ieder wat wils! Van kleding tot worst\, en van prachtige hobby-artikelen tot sexy ondergoed. En natuurlijk Prins Care met massage en NRT- demo’s. Voor het eerst dit jaar zal ook Chantal’s NailArt bij mij in de kraam aanwezig zijn. \nOp het eerste deel van de Kerkweg\, de Margrietweg\, de Ireneweg en op de grote parkeerplaats tegenover kasteel “de Cannenburgh” vind je ruim 150 kramen en is de Vaasaqua braderie een absolute topper! \nDit delen:\n				Share op Facebook (Opent in een nieuw venster)\n				Facebook\n			\n				Delen op X (Opent in een nieuw venster)\n				X\n			Vind ik leuk:Vind-ik-leuk Aan het laden...
URL:https://www.prinscare.nl/event/vaasaqua-braderie-4/
LOCATION:Dorpcentrum Vaassen\, Vaassen\, Gelderland
CATEGORIES:Buitenevenement,Markt - Braderie
END:VEVENT
BEGIN:VEVENT
DTSTART;VALUE=DATE:20250604
DTEND;VALUE=DATE:20250605
DTSTAMP:20260424T161242
CREATED:20250505T173342Z
LAST-MODIFIED:20250505T173342Z
UID:9002-1748995200-1749081599@www.prinscare.nl
SUMMARY:Chi Essential Cosmetics - Praktijkdag Serums & Synergieën
DESCRIPTION:Als trotse partner van Chi Essential Cosmetics krijg ik de kans om deel te nemen aan een exclusieve trainingsdag\, speciaal georganiseerd voor de partners van dit geweldige merk. Tijdens deze dag ga ik hands-on ervaring opdoen met de Serums en Synergiën van Chi Essential Cosmetics en mijn kennis over hun toepassingen en voordelen verder uitbreiden. \nIk kijk er enorm naar uit om deze dag te ervaren\, mijn kennis verder te verdiepen en nieuwe inzichten op te doen die ik direct kan toepassen in mijn werk met Chi Essential Cosmetics! \n \nDit delen:\n				Share op Facebook (Opent in een nieuw venster)\n				Facebook\n			\n				Delen op X (Opent in een nieuw venster)\n				X\n			Vind ik leuk:Vind-ik-leuk Aan het laden...
URL:https://www.prinscare.nl/event/cec-serums/
LOCATION:Chi Natural Life – Breda\, Breda
CATEGORIES:Deelname Opleiding - Cursus
ATTACH;FMTTYPE=image/jpeg:https://www.prinscare.nl/wp-content/uploads/2025/03/CEC.jpg
END:VEVENT
BEGIN:VEVENT
DTSTART;VALUE=DATE:20250623
DTEND;VALUE=DATE:20250628
DTSTAMP:20260424T161242
CREATED:20241208T130037Z
LAST-MODIFIED:20241208T130037Z
UID:8910-1750636800-1751068799@www.prinscare.nl
SUMMARY:Vakantie
DESCRIPTION:Dit delen:\n				Share op Facebook (Opent in een nieuw venster)\n				Facebook\n			\n				Delen op X (Opent in een nieuw venster)\n				X\n			Vind ik leuk:Vind-ik-leuk Aan het laden...
URL:https://www.prinscare.nl/event/vakantie-4/
CATEGORIES:Bijzonderheden
ATTACH;FMTTYPE=image/jpeg:https://www.prinscare.nl/wp-content/uploads/2024/01/vakantiesluiting-e1706035873787.jpg
ORGANIZER;CN="Prins Care":MAILTO:teunie@prinscare.nl
END:VEVENT
BEGIN:VEVENT
DTSTART;VALUE=DATE:20250908
DTEND;VALUE=DATE:20251006
DTSTAMP:20260424T161242
CREATED:20250304T103316Z
LAST-MODIFIED:20250505T171909Z
UID:8972-1757289600-1759708799@www.prinscare.nl
SUMMARY:Vakantie
DESCRIPTION:Dit delen:\n				Share op Facebook (Opent in een nieuw venster)\n				Facebook\n			\n				Delen op X (Opent in een nieuw venster)\n				X\n			Vind ik leuk:Vind-ik-leuk Aan het laden...
URL:https://www.prinscare.nl/event/vakantie-5/
CATEGORIES:Bijzonderheden
ATTACH;FMTTYPE=image/jpeg:https://www.prinscare.nl/wp-content/uploads/2024/01/vakantiesluiting-e1706035873787.jpg
ORGANIZER;CN="Prins Care":MAILTO:teunie@prinscare.nl
END:VEVENT
BEGIN:VEVENT
DTSTART;TZID=Europe/Amsterdam:20260420T100000
DTEND;TZID=Europe/Amsterdam:20260420T110000
DTSTAMP:20260424T161242
CREATED:20260415T142946Z
LAST-MODIFIED:20260415T144928Z
UID:9276-1776679200-1776682800@www.prinscare.nl
SUMMARY:Webinar - Basisvoeding en hooikoorts
DESCRIPTION:Orthomoleculair Therapeut en grondlegger van de opleiding Darmexpert\, Annette ter Heijden geeft in een uur tijd heel veel info over voeding\, welzijn en vandaag specifiek over Hooikoorts en wat er aan te doen is. \nJe kunt je via deze link aanmelden.\nGebruik hiervoor de aanmeldcode: 351-940-405 \nBij het aanmeldproces is het fijn voor Annette om te weten wie je bent en dat je je via mij\, Teunie Prins\, aanmeld.\nMochten er na dit webinar nog vragen of onduidelijkheden zijn\, dan kun je je vragen altijd via mij stellen. \n  \nDit delen:\n				Share op Facebook (Opent in een nieuw venster)\n				Facebook\n			\n				Delen op X (Opent in een nieuw venster)\n				X\n			Vind ik leuk:Vind-ik-leuk Aan het laden...
URL:https://www.prinscare.nl/event/hooikoorts/
CATEGORIES:Webinar
ATTACH;FMTTYPE=image/jpeg:https://www.prinscare.nl/wp-content/uploads/2026/04/hooikoorts-wat-kan-ik-doen-hatsjoeee-928.jpg
END:VEVENT
BEGIN:VEVENT
DTSTART;TZID=Europe/Amsterdam:20260421T100000
DTEND;TZID=Europe/Amsterdam:20260421T110000
DTSTAMP:20260424T161242
CREATED:20260415T143016Z
LAST-MODIFIED:20260415T144848Z
UID:9281-1776765600-1776769200@www.prinscare.nl
SUMMARY:Webinar - Basisvoeding en hooikoorts
DESCRIPTION:Orthomoleculair Therapeut en grondlegger van de opleiding Darmexpert\, Annette ter Heijden geeft in een uur tijd heel veel info over voeding\, welzijn en vandaag specifiek over Hooikoorts en wat er aan te doen is. \nJe kunt je via deze link aanmelden.\nGebruik hiervoor de aanmeldcode: 351-940-405 \nBij het aanmeldproces is het fijn voor Annette om te weten wie je bent en dat je je via mij\, Teunie Prins\, aanmeld.\nMochten er na dit webinar nog vragen of onduidelijkheden zijn\, dan kun je je vragen altijd via mij stellen. \n  \nDit delen:\n				Share op Facebook (Opent in een nieuw venster)\n				Facebook\n			\n				Delen op X (Opent in een nieuw venster)\n				X\n			Vind ik leuk:Vind-ik-leuk Aan het laden...
URL:https://www.prinscare.nl/event/hooikoorts-2/
CATEGORIES:Webinar
ATTACH;FMTTYPE=image/jpeg:https://www.prinscare.nl/wp-content/uploads/2026/04/hooikoorts-wat-kan-ik-doen-hatsjoeee-928.jpg
END:VEVENT
BEGIN:VEVENT
DTSTART;TZID=Europe/Amsterdam:20260422T100000
DTEND;TZID=Europe/Amsterdam:20260422T110000
DTSTAMP:20260424T161242
CREATED:20260415T143041Z
LAST-MODIFIED:20260415T144803Z
UID:9284-1776852000-1776855600@www.prinscare.nl
SUMMARY:Webinar - Basisvoeding en hooikoorts
DESCRIPTION:Orthomoleculair Therapeut en grondlegger van de opleiding Darmexpert\, Annette ter Heijden geeft in een uur tijd heel veel info over voeding\, welzijn en vandaag specifiek over Hooikoorts en wat er aan te doen is. \nJe kunt je via deze link aanmelden.\nGebruik hiervoor de aanmeldcode: 351-940-405 \nBij het aanmeldproces is het fijn voor Annette om te weten wie je bent en dat je je via mij\, Teunie Prins\, aanmeld.\nMochten er na dit webinar nog vragen of onduidelijkheden zijn\, dan kun je je vragen altijd via mij stellen. \n  \nDit delen:\n				Share op Facebook (Opent in een nieuw venster)\n				Facebook\n			\n				Delen op X (Opent in een nieuw venster)\n				X\n			Vind ik leuk:Vind-ik-leuk Aan het laden...
URL:https://www.prinscare.nl/event/hooikoorts-3/
CATEGORIES:Webinar
ATTACH;FMTTYPE=image/jpeg:https://www.prinscare.nl/wp-content/uploads/2026/04/hooikoorts-wat-kan-ik-doen-hatsjoeee-928.jpg
END:VEVENT
END:VCALENDAR