BEGIN:VCALENDAR
VERSION:2.0
PRODID:-//Prins Care – Herstel. Ontspan. Versterk. - ECPv6.15.20//NONSGML v1.0//EN
CALSCALE:GREGORIAN
METHOD:PUBLISH
X-WR-CALNAME:Prins Care – Herstel. Ontspan. Versterk.
X-ORIGINAL-URL:https://www.prinscare.nl
X-WR-CALDESC:Evenementen voor Prins Care – Herstel. Ontspan. Versterk.
REFRESH-INTERVAL;VALUE=DURATION:PT1H
X-Robots-Tag:noindex
X-PUBLISHED-TTL:PT1H
BEGIN:VTIMEZONE
TZID:Europe/Amsterdam
BEGIN:DAYLIGHT
TZOFFSETFROM:+0100
TZOFFSETTO:+0200
TZNAME:CEST
DTSTART:20220327T010000
END:DAYLIGHT
BEGIN:STANDARD
TZOFFSETFROM:+0200
TZOFFSETTO:+0100
TZNAME:CET
DTSTART:20221030T010000
END:STANDARD
BEGIN:DAYLIGHT
TZOFFSETFROM:+0100
TZOFFSETTO:+0200
TZNAME:CEST
DTSTART:20230326T010000
END:DAYLIGHT
BEGIN:STANDARD
TZOFFSETFROM:+0200
TZOFFSETTO:+0100
TZNAME:CET
DTSTART:20231029T010000
END:STANDARD
BEGIN:DAYLIGHT
TZOFFSETFROM:+0100
TZOFFSETTO:+0200
TZNAME:CEST
DTSTART:20240331T010000
END:DAYLIGHT
BEGIN:STANDARD
TZOFFSETFROM:+0200
TZOFFSETTO:+0100
TZNAME:CET
DTSTART:20241027T010000
END:STANDARD
END:VTIMEZONE
BEGIN:VEVENT
DTSTART;TZID=Europe/Amsterdam:20231012T080000
DTEND;TZID=Europe/Amsterdam:20231012T170000
DTSTAMP:20260424T174700
CREATED:20230702T121930Z
LAST-MODIFIED:20230702T121930Z
UID:8551-1697097600-1697130000@www.prinscare.nl
SUMMARY:Jaarmarkt
DESCRIPTION:Dit delen:\n				Share op Facebook (Opent in een nieuw venster)\n				Facebook\n			\n				Delen op X (Opent in een nieuw venster)\n				X\n			Vind ik leuk:Vind-ik-leuk Aan het laden...
URL:https://www.prinscare.nl/event/jaarmarkt/
LOCATION:Dorpcentrum Vaassen\, Vaassen\, Gelderland
CATEGORIES:Buitenevenement,Markt - Braderie
END:VEVENT
END:VCALENDAR