BEGIN:VCALENDAR
VERSION:2.0
PRODID:-//Prins Care – Herstel. Ontspan. Versterk. - ECPv6.15.20//NONSGML v1.0//EN
CALSCALE:GREGORIAN
METHOD:PUBLISH
X-ORIGINAL-URL:https://www.prinscare.nl
X-WR-CALDESC:Evenementen voor Prins Care – Herstel. Ontspan. Versterk.
REFRESH-INTERVAL;VALUE=DURATION:PT1H
X-Robots-Tag:noindex
X-PUBLISHED-TTL:PT1H
BEGIN:VTIMEZONE
TZID:Europe/Amsterdam
BEGIN:DAYLIGHT
TZOFFSETFROM:+0100
TZOFFSETTO:+0200
TZNAME:CEST
DTSTART:20220327T010000
END:DAYLIGHT
BEGIN:STANDARD
TZOFFSETFROM:+0200
TZOFFSETTO:+0100
TZNAME:CET
DTSTART:20221030T010000
END:STANDARD
BEGIN:DAYLIGHT
TZOFFSETFROM:+0100
TZOFFSETTO:+0200
TZNAME:CEST
DTSTART:20230326T010000
END:DAYLIGHT
BEGIN:STANDARD
TZOFFSETFROM:+0200
TZOFFSETTO:+0100
TZNAME:CET
DTSTART:20231029T010000
END:STANDARD
BEGIN:DAYLIGHT
TZOFFSETFROM:+0100
TZOFFSETTO:+0200
TZNAME:CEST
DTSTART:20240331T010000
END:DAYLIGHT
BEGIN:STANDARD
TZOFFSETFROM:+0200
TZOFFSETTO:+0100
TZNAME:CET
DTSTART:20241027T010000
END:STANDARD
END:VTIMEZONE
BEGIN:VEVENT
DTSTART;VALUE=DATE:20230712
DTEND;VALUE=DATE:20230807
DTSTAMP:20260424T223337
CREATED:20230702T122358Z
LAST-MODIFIED:20230702T123755Z
UID:8554-1689120000-1691366399@www.prinscare.nl
SUMMARY:Zomervakantie Sluiting
DESCRIPTION:Ik hoop van harte dat jullie allemaal een onvergetelijke en adembenemende zomer ervaren! \nIk heb besloten om eventjes een welverdiende\, magische rustpauze te nemen en mijn batterijen op te laden vanaf. In deze periode zullen al onze diensten tijdelijk een pauze kennen. Ik begrijp dat dit enige ongemak met zich mee kan brengen\, maar ik wil jullie verzekeren dat deze pauze essentieel is\, zodat ik na onze vakantie vol frisse energie en ongekend enthousiasme kunnen terugkeren. Met regelmaat zal ik de app en mail lezen zodat ik kan reageren op wat niet kan wachten. Kan er wel worden gewacht\, dan kom ik daar na mijn vakantie zo snel als mogelijk op terug. \nIk ben vastberaden om jullie in de toekomst de allerbeste service te blijven bieden\, en daarom gun ik mijzelf wat welverdiende tijd om even tot rust te komen. Ik geloof er sterk in dat dit mij zal helpen om met vernieuwde creativiteit en bevlogenheid aan de slag te gaan. \nHoewel de reguliere diensten tijdelijk zullen worden stopgezet\, willen we benadrukken dat we er altijd zijn voor dringende zaken. Jullie kunnen nog steeds contact met ons opnemen via mail of app\, en ik zal mijn uiterste best doen om zo spoedig mogelijk te reageren. \nIk wens jullie een buitengewone\, hartverwarmende zomer toe en ik kan nu al niet wachten om weer met jullie samen te werken na onze vakantie. Tot dan! \n  \nDit delen:\n				Share op Facebook (Opent in een nieuw venster)\n				Facebook\n			\n				Delen op X (Opent in een nieuw venster)\n				X\n			Vind ik leuk:Vind-ik-leuk Aan het laden...
URL:https://www.prinscare.nl/event/zomervakantie-sluiting/
CATEGORIES:Deelname Opleiding - Cursus
ORGANIZER;CN="Prins Care":MAILTO:teunie@prinscare.nl
END:VEVENT
END:VCALENDAR