BEGIN:VCALENDAR
VERSION:2.0
PRODID:-//Prins Care – Herstel. Ontspan. Versterk. - ECPv6.15.20//NONSGML v1.0//EN
CALSCALE:GREGORIAN
METHOD:PUBLISH
X-ORIGINAL-URL:https://www.prinscare.nl
X-WR-CALDESC:Evenementen voor Prins Care – Herstel. Ontspan. Versterk.
REFRESH-INTERVAL;VALUE=DURATION:PT1H
X-Robots-Tag:noindex
X-PUBLISHED-TTL:PT1H
BEGIN:VTIMEZONE
TZID:Europe/Amsterdam
BEGIN:DAYLIGHT
TZOFFSETFROM:+0100
TZOFFSETTO:+0200
TZNAME:CEST
DTSTART:20220327T010000
END:DAYLIGHT
BEGIN:STANDARD
TZOFFSETFROM:+0200
TZOFFSETTO:+0100
TZNAME:CET
DTSTART:20221030T010000
END:STANDARD
BEGIN:DAYLIGHT
TZOFFSETFROM:+0100
TZOFFSETTO:+0200
TZNAME:CEST
DTSTART:20230326T010000
END:DAYLIGHT
BEGIN:STANDARD
TZOFFSETFROM:+0200
TZOFFSETTO:+0100
TZNAME:CET
DTSTART:20231029T010000
END:STANDARD
BEGIN:DAYLIGHT
TZOFFSETFROM:+0100
TZOFFSETTO:+0200
TZNAME:CEST
DTSTART:20240331T010000
END:DAYLIGHT
BEGIN:STANDARD
TZOFFSETFROM:+0200
TZOFFSETTO:+0100
TZNAME:CET
DTSTART:20241027T010000
END:STANDARD
END:VTIMEZONE
BEGIN:VEVENT
DTSTART;VALUE=DATE:20230328
DTEND;VALUE=DATE:20230411
DTSTAMP:20260425T031317
CREATED:20230306T084605Z
LAST-MODIFIED:20230306T084605Z
UID:7771-1679961600-1681171199@www.prinscare.nl
SUMMARY:PaasPuzzelTocht
DESCRIPTION:Zo werkt het\nDe Paashaas heeft een rondje gehuppeld langs een heleboel gezellige ondernemers. In iedere etalage heeft hij een paasei achtergelaten. Weten jullie welke route hij heeft gevolgd? Vind alle paaseieren en maak een zin door de gevonden eieren in de juiste volgorde te zetten. \nDownload snel de speurtocht en maak kans op leuke prijzen. De speurtocht is beschikbaar van 25 maart t/m 10 april. \nPrijswinnaars ontvangen na 22 april bericht. \nDit delen:\n				Share op Facebook (Opent in een nieuw venster)\n				Facebook\n			\n				Delen op X (Opent in een nieuw venster)\n				X\n			Vind ik leuk:Vind-ik-leuk Aan het laden...
URL:https://www.prinscare.nl/event/paaspuzzeltocht/
LOCATION:Dorpcentrum Vaassen\, Vaassen\, Gelderland
CATEGORIES:Buitenevenement
END:VEVENT
END:VCALENDAR